BEGIN:VCALENDAR
VERSION:2.0
PRODID:-//wp-events-plugin.com//7.2.3.1//EN
TZID:Europe/London
X-WR-TIMEZONE:Europe/London
BEGIN:VEVENT
UID:13@bpc.bumblebeedesign.co.uk
DTSTART;TZID=Europe/London:20260208T093000
DTEND;TZID=Europe/London:20260426T110000
DTSTAMP:20260211T132932Z
URL:https://bpc.bumblebeedesign.co.uk/events/sunday-eucharist/
SUMMARY:Sunday Eucharist
DESCRIPTION:Our Sunday service\, featuring superb music from our Choir\, in
 telligent preaching and a warm welcome to all.
ATTACH;FMTTYPE=image/jpeg:https://bpc.bumblebeedesign.co.uk/wp-content/upl
 oads/2026/02/BROM-4.jpg
END:VEVENT
BEGIN:VTIMEZONE
TZID:Europe/London
X-LIC-LOCATION:Europe/London
BEGIN:STANDARD
DTSTART:20251026T010000
TZOFFSETFROM:+0100
TZOFFSETTO:+0000
TZNAME:GMT
END:STANDARD
BEGIN:DAYLIGHT
DTSTART:20260329T020000
TZOFFSETFROM:+0000
TZOFFSETTO:+0100
TZNAME:BST
END:DAYLIGHT
END:VTIMEZONE
END:VCALENDAR