BEGIN:VCALENDAR
VERSION:2.0
PRODID:-//wp-events-plugin.com//7.2.3.1//EN
TZID:Europe/London
X-WR-TIMEZONE:Europe/London
BEGIN:VEVENT
UID:3@bpc.bumblebeedesign.co.uk
DTSTART;TZID=Europe/London:20260215T080000
DTEND;TZID=Europe/London:20260426T093000
DTSTAMP:20260211T133503Z
URL:https://bpc.bumblebeedesign.co.uk/events/holy-communion/
SUMMARY:Holy Communion
DESCRIPTION:A simple said service of Holy Communion is offered on the 1st a
 nd 3rd Sunday's of the month in church.
CATEGORIES:Holy Communion
END:VEVENT
BEGIN:VTIMEZONE
TZID:Europe/London
X-LIC-LOCATION:Europe/London
BEGIN:STANDARD
DTSTART:20251026T010000
TZOFFSETFROM:+0100
TZOFFSETTO:+0000
TZNAME:GMT
END:STANDARD
BEGIN:DAYLIGHT
DTSTART:20260329T020000
TZOFFSETFROM:+0000
TZOFFSETTO:+0100
TZNAME:BST
END:DAYLIGHT
END:VTIMEZONE
END:VCALENDAR